BEGIN:VCALENDAR
VERSION:2.0
PRODID:-//Eventos Diputación de Cáceres - ECPv6.15.17.1//NONSGML v1.0//EN
CALSCALE:GREGORIAN
METHOD:PUBLISH
X-ORIGINAL-URL:https://eventos.dip-caceres.es
X-WR-CALDESC:Eventos para Eventos Diputación de Cáceres
REFRESH-INTERVAL;VALUE=DURATION:PT1H
X-Robots-Tag:noindex
X-PUBLISHED-TTL:PT1H
BEGIN:VTIMEZONE
TZID:Europe/Madrid
BEGIN:DAYLIGHT
TZOFFSETFROM:+0100
TZOFFSETTO:+0200
TZNAME:CEST
DTSTART:20220327T010000
END:DAYLIGHT
BEGIN:STANDARD
TZOFFSETFROM:+0200
TZOFFSETTO:+0100
TZNAME:CET
DTSTART:20221030T010000
END:STANDARD
BEGIN:DAYLIGHT
TZOFFSETFROM:+0100
TZOFFSETTO:+0200
TZNAME:CEST
DTSTART:20230326T010000
END:DAYLIGHT
BEGIN:STANDARD
TZOFFSETFROM:+0200
TZOFFSETTO:+0100
TZNAME:CET
DTSTART:20231029T010000
END:STANDARD
BEGIN:DAYLIGHT
TZOFFSETFROM:+0100
TZOFFSETTO:+0200
TZNAME:CEST
DTSTART:20240331T010000
END:DAYLIGHT
BEGIN:STANDARD
TZOFFSETFROM:+0200
TZOFFSETTO:+0100
TZNAME:CET
DTSTART:20241027T010000
END:STANDARD
BEGIN:DAYLIGHT
TZOFFSETFROM:+0100
TZOFFSETTO:+0200
TZNAME:CEST
DTSTART:20250330T010000
END:DAYLIGHT
BEGIN:STANDARD
TZOFFSETFROM:+0200
TZOFFSETTO:+0100
TZNAME:CET
DTSTART:20251026T010000
END:STANDARD
BEGIN:DAYLIGHT
TZOFFSETFROM:+0100
TZOFFSETTO:+0200
TZNAME:CEST
DTSTART:20260329T010000
END:DAYLIGHT
BEGIN:STANDARD
TZOFFSETFROM:+0200
TZOFFSETTO:+0100
TZNAME:CET
DTSTART:20261025T010000
END:STANDARD
END:VTIMEZONE
BEGIN:VEVENT
DTSTART;TZID=Europe/Madrid:20250306T190000
DTEND;TZID=Europe/Madrid:20250306T203000
DTSTAMP:20260420T131521
CREATED:20250217T080402Z
LAST-MODIFIED:20250217T094715Z
UID:10000178-1741287600-1741293000@eventos.dip-caceres.es
SUMMARY:Innovación a tu alcance\, oportunidad para tecnificar la empresa. Trujillo
DESCRIPTION:  \n¿Estás listo para llevar a cabo un cambio de paradigma? \nTe presentamos una oportunidad única para modernizar tus procesos\, mejorar tu productividad y alcanzar nuevos clientes a través de la transformación tecnológica y la innovación. \nÚnete a nuestro proyecto DIH Tech4E\, diseñado especialmente para ayudarte a modernizar y optimizar tu negocio a través de la tecnología. Es una iniciativa para la digitalización empresarial\, integrando centros de competencia\, organizaciones de apoyo y facilitadores de innovación conectados a nivel europeo. Su objetivo es impulsar la transformación tecnológica de empresas y servicios mediante tecnologías avanzadas como ciberseguridad\, inteligencia artificial (IA) y computación de alto rendimiento\, alineándose con la estrategia europea de sostenibilidad y digitalización. \n???? ¿Qué ofrecemos? \n\nDiagnóstico tecnológico individualizado.\nAsesoramiento técnico personalizado.\nFormación y acompañamiento.\nVisibilidad y difusión de tu caso de éxito.\nSeguimiento y evaluación continua.\n\n???? ¿Quién puede participar? \nEmpresas de todos los tamaños y sectores que deseen adaptarse a la nueva era digital. \nPara poder participar es imprescindible inscribirse.
URL:https://eventos.dip-caceres.es/event/innovacion-a-tu-alcance-oportunidad-para-tecnificar-la-empresa-trujillo/
LOCATION:Trujillo. Circular Fab\, Av. Miajadas\, 32\, Trujillo\, Cáceres\, 13001\, España
CATEGORIES:EDIHT4E
ATTACH;FMTTYPE=image/jpeg:https://eventos.dip-caceres.es/wp-content/uploads/2025/02/Trujillo.jpg
END:VEVENT
BEGIN:VEVENT
DTSTART;TZID=Europe/Madrid:20241119T160000
DTEND;TZID=Europe/Madrid:20241119T170000
DTSTAMP:20260420T131521
CREATED:20241010T130018Z
LAST-MODIFIED:20241010T130018Z
UID:10000160-1732032000-1732035600@eventos.dip-caceres.es
SUMMARY:Taller: Cierra la venta: pagos seguros y sencillos
DESCRIPTION:Este taller se centra en la parte final y crucial del proceso de venta: el pago. Aprenderás a integrar sistemas de pago seguros y sencillos en tu tienda de Cáceres Digital\, optimizando la experiencia del cliente y asegurando que el proceso de compra sea rápido y fiable.\ntiene menú contextual. \nPuedes seguir este taller de forma online o presencialmente desde cualquiera de los centros CircularFab de la provincia. \nInscríbete escaneando el QR del cartel.
URL:https://eventos.dip-caceres.es/event/taller-cierra-la-venta-pagos-seguros-y-sencillos/
LOCATION:Evento Online\, España
CATEGORIES:Comercio Rural
ATTACH;FMTTYPE=image/jpeg:https://eventos.dip-caceres.es/wp-content/uploads/2024/10/comercio-rural-4.jpg
END:VEVENT
BEGIN:VEVENT
DTSTART;TZID=Europe/Madrid:20241105T160000
DTEND;TZID=Europe/Madrid:20241105T170000
DTSTAMP:20260420T131521
CREATED:20241010T125745Z
LAST-MODIFIED:20241010T125745Z
UID:10000159-1730822400-1730826000@eventos.dip-caceres.es
SUMMARY:Taller: Vende con estilo: mejora el diseño de tu sitio web
DESCRIPTION:Durante este taller te enseñaremos las mejores prácticas para diseñar y mejorar la apariencia de tu tienda online en Cáceres Digital. Aprenderás a crear un sitio web atractivo\, intuitivo y funcional que refleje la identidad de tu negocio. El diseño de tu tienda es esencial para captar la atención de los clientes y diferenciarte de la competencia\, ¡y te mostraremos cómo lograrlo! \nPuedes seguir este taller de forma online o presencialmente desde cualquiera de los centros CircularFab de la provincia. \nInscríbete escaneando el QR del cartel.
URL:https://eventos.dip-caceres.es/event/taller-vende-con-estilo-mejora-el-diseno-de-tu-sitio-web/
LOCATION:Evento Online\, España
CATEGORIES:Comercio Rural
ATTACH;FMTTYPE=image/jpeg:https://eventos.dip-caceres.es/wp-content/uploads/2024/10/comercio-rural-3.jpg
END:VEVENT
BEGIN:VEVENT
DTSTART;TZID=Europe/Madrid:20241025T120000
DTEND;TZID=Europe/Madrid:20241025T133000
DTSTAMP:20260420T131521
CREATED:20241016T123908Z
LAST-MODIFIED:20241017T085808Z
UID:10000169-1729857600-1729863000@eventos.dip-caceres.es
SUMMARY:Mesa de trabajo técnica OPRID
DESCRIPTION:En el marco de proyecto de Oficina de Provincia Inteligente y Transformación Digital de la Diputación de Cáceres (OPRID)\, después de haber avanzado con éxito en sus primeras fases os invitamos a una reunión en la cual presentaros el estado actual de este proyecto\, en especial tras la finalización de las acciones de recogida de datos en el territorio de la provincia. \nVuestra colaboración y participación ha sido un elemento crucial y de inestimable valor para la consecución de estos objetivos de manera rápida y eficaz. \nPERSONAS DESTINATARIAS\nAlcaldes y alcaldesas y miembros de las corporaciones de los municipios beneficiarios y personal técnico\, empresas\, asociaciones y otros agentes del territorio de implantación de OPRID \nPROGRAMA: \n\n12:00. Bienvenida a cargo de la Diputación de Cáceres.\n12:10. El impacto del proyecto OPRID.\n\nAgustín Aretio Gómez\, Área de Innovación y Provincia Digital de la Diputación de Cáceres.\nMargarita Gala Sánchez\, Red Extremeña de Desarrollo Rural (REDEX).\nMagdalena Suárez Ojeda\, ECAS Consulting (asistencia técnica de OPRID).\n\n\n12:30. Metodología de análisis de datos del proyecto OPRID.\n\nPedro Sebastián de Erice\nIñaki Aliende Povedano\nJesús López Baeza.\n\n\n13:00. Presentación del trabajo de campo realizado para OPRID con los ayuntamientos y los territorios de la provincia.\n\nJavier Jiménez Tejada\nMª Luisa Lozano Gil\nJosé F. Gras Muñoz.\n\n\n13:30. Coloquio y despedida.\n\nLa reunión tendrá lugar el próximo día 25 de octubre\, a las 12.00h\, en el Centro de Referencia para la Transformación Digital (El Círculo\, calle Doctor Marañón\, 2 de Cáceres)  y\, simultáneamente\, en la Red de Centros Circular FAB de la provincia\, así como por videoconferencia \nInscríbase aquí para poder asistir a la reunión
URL:https://eventos.dip-caceres.es/event/mesa-de-trabajotecnica-oprid/
LOCATION:Evento Online\, España
ATTACH;FMTTYPE=image/png:https://eventos.dip-caceres.es/wp-content/uploads/2024/10/logoOPRID-DIP.png
END:VEVENT
BEGIN:VEVENT
DTSTART;TZID=Europe/Madrid:20241022T160000
DTEND;TZID=Europe/Madrid:20241022T170000
DTSTAMP:20260420T131521
CREATED:20241010T125350Z
LAST-MODIFIED:20241010T125350Z
UID:10000158-1729612800-1729616400@eventos.dip-caceres.es
SUMMARY:Taller: Tu Tienda Online desde Cero: guía paso a paso para configurar la tienda en CáceresDigital
DESCRIPTION:Este taller está diseñado para aquellos que desean aprender a configurar su propia tienda online en Cáceres Digital. Te llevaremos por un recorrido paso a paso\, desde la creación de tu catálogo de productos hasta la personalización de tu tienda\, asegurando que todo esté optimizado para las ventas. Al final del taller\, estarás listo para poner en marcha tu tienda y comenzar a vender online con confianza. \nPuedes seguir este taller de forma online o presencialmente desde cualquiera de los centros CircularFab de la provincia. \nInscríbete escaneando el QR del cartel.
URL:https://eventos.dip-caceres.es/event/taller-tu-tienda-online-desde-cero-guia-paso-a-paso-para-configurar-la-tienda-en-caceresdigital/
LOCATION:Evento Online\, España
CATEGORIES:Comercio Rural
ATTACH;FMTTYPE=image/jpeg:https://eventos.dip-caceres.es/wp-content/uploads/2024/10/comercio-rural2.jpg
END:VEVENT
BEGIN:VEVENT
DTSTART;TZID=Europe/Madrid:20241010T160000
DTEND;TZID=Europe/Madrid:20241010T170000
DTSTAMP:20260420T131521
CREATED:20241010T125107Z
LAST-MODIFIED:20241010T125107Z
UID:10000157-1728576000-1728579600@eventos.dip-caceres.es
SUMMARY:Taller: ¡Haz que te encuentren! Introducción a CáceresDigital y registro
DESCRIPTION:En este taller aprenderás los primeros pasos para entrar en el nuevo marketplace Cáceres Digital. Te guiaremos a través del proceso de registro\, creación de tu perfil y configuración inicial online. Exploraremos cómo aprovechar las herramientas que ofrece la plataforma para optimizar tu presencia digital desde el principio. \nPuedes seguir este taller de forma online o presencialmente desde cualquiera de los centros CircularFab de la provincia. \nInscríbete escaneando el QR del cartel.
URL:https://eventos.dip-caceres.es/event/taller-haz-que-te-encuentren-introduccion-a-caceresdigital-y-registro/
LOCATION:Evento Online\, España
CATEGORIES:Comercio Rural
ATTACH;FMTTYPE=image/jpeg:https://eventos.dip-caceres.es/wp-content/uploads/2024/10/comercio-rural-1.jpg
END:VEVENT
BEGIN:VEVENT
DTSTART;TZID=Europe/Madrid:20240919T160000
DTEND;TZID=Europe/Madrid:20240919T170000
DTSTAMP:20260420T131521
CREATED:20240913T103637Z
LAST-MODIFIED:20240913T103637Z
UID:10000151-1726761600-1726765200@eventos.dip-caceres.es
SUMMARY:Taller: Gestión de la reputación online y respuesta a reseñas
DESCRIPTION:¿Quieres aprender a gestionar la reputación online de tu negocio y mejorar la relación con tus clientes? Te invitamos a nuestro taller “Gestión de la reputación online y respuesta a reseñas”\, diseñado para enseñarte a cuidar la imagen de tu marca en internet y aprovechar las opiniones de los clientes para generar confianza y lealtad. \nDurante este taller\, que se llevará a cabo el día 19 de septiembre\, exploraremos cómo gestionar eficazmente las reseñas en plataformas como Google\, redes sociales y sitios especializados\, además de cómo manejar críticas negativas de manera profesional y constructiva. Te mostraremos cómo responder a las reseñas\, tanto positivas como negativas\, para fortalecer la relación con tus clientes y mejorar tu reputación online. \nPuedes seguir este taller de forma online o presencialmente desde cualquiera de los centros CircularFab de la provincia. \nInscríbete escaneando el QR del cartel.
URL:https://eventos.dip-caceres.es/event/taller-gestion-de-la-reputacion-online-y-respuesta-a-resenas/
LOCATION:Evento Online\, España
CATEGORIES:Comercio Rural
ATTACH;FMTTYPE=image/jpeg:https://eventos.dip-caceres.es/wp-content/uploads/2024/09/240919_Taller-Gestion-de-la-reputacion-online-y-respuesta-a-resenas.jpg
END:VEVENT
BEGIN:VEVENT
DTSTART;TZID=Europe/Madrid:20240919T090000
DTEND;TZID=Europe/Madrid:20240919T100000
DTSTAMP:20260420T131521
CREATED:20240913T103253Z
LAST-MODIFIED:20240913T103253Z
UID:10000150-1726736400-1726740000@eventos.dip-caceres.es
SUMMARY:Taller: Branding e identidad digital para el pequeño comercio
DESCRIPTION:¿Te gustaría fortalecer la imagen de tu negocio y destacar en el entorno digital? Te invitamos a nuestro taller “Branding e identidad digital para el pequeño comercio”\, donde aprenderás a crear una marca sólida y coherente que conecte con tu público y potencie la presencia de tu negocio en línea. \nDurante este taller\, que se llevará a cabo el día 19 de septiembre\, descubrirás cómo definir y construir una identidad digital efectiva\, que refleje los valores y la propuesta única de tu comercio. Abordaremos temas clave como el diseño de un logo atractivo\, la elección de colores y tipografías\, y cómo transmitir tu mensaje de marca de manera clara y memorable. \nPuedes seguir este taller de forma online o presencialmente desde cualquiera de los centros CircularFab de la provincia. \nInscríbete escaneando el QR del cartel.
URL:https://eventos.dip-caceres.es/event/taller-branding-e-identidad-digital-para-el-pequeno-comercio/
LOCATION:Evento Online\, España
CATEGORIES:Comercio Rural
ATTACH;FMTTYPE=image/jpeg:https://eventos.dip-caceres.es/wp-content/uploads/2024/09/240919_Taller-Branding-e-identidad-digital-para-el-pequeno-comercio.jpg
END:VEVENT
BEGIN:VEVENT
DTSTART;TZID=Europe/Madrid:20240918T160000
DTEND;TZID=Europe/Madrid:20240918T170000
DTSTAMP:20260420T131521
CREATED:20240913T101814Z
LAST-MODIFIED:20240913T101814Z
UID:10000149-1726675200-1726678800@eventos.dip-caceres.es
SUMMARY:Taller: Digitalización de procesos logísticos y de gestión
DESCRIPTION:¿Te gustaría optimizar la eficiencia de tu negocio a través de la transformación digital? Te invitamos a nuestro taller “Digitalización de procesos logísticos y de gestión”\, diseñado para que aprendas a mejorar la productividad de tus operaciones mediante soluciones tecnológicas avanzadas. \nDurante este taller\, que se llevará a cabo el día 18 de septiembre\, exploraremos cómo la digitalización puede revolucionar tus procesos logísticos\, desde la gestión de inventarios y pedidos\, hasta la optimización de rutas y el seguimiento en tiempo real. También abordaremos la automatización de tareas administrativas y de gestión\, permitiéndote reducir errores y agilizar la toma de decisiones. \nPuedes seguir este taller de forma online o presencialmente desde cualquiera de los centros CircularFab de la provincia. \nInscríbete escaneando el QR del cartel.
URL:https://eventos.dip-caceres.es/event/taller-digitalizacion-de-procesos-logisticos-y-de-gestion/
LOCATION:Evento Online\, España
CATEGORIES:Comercio Rural
ATTACH;FMTTYPE=image/jpeg:https://eventos.dip-caceres.es/wp-content/uploads/2024/09/240918_Taller-Digitalizacion-de-procesos-logisticos-y-de-gestion.jpg
END:VEVENT
BEGIN:VEVENT
DTSTART;TZID=Europe/Madrid:20240918T090000
DTEND;TZID=Europe/Madrid:20240918T100000
DTSTAMP:20260420T131521
CREATED:20240913T100851Z
LAST-MODIFIED:20240913T100851Z
UID:10000148-1726650000-1726653600@eventos.dip-caceres.es
SUMMARY:Taller: Herramientas de Inteligencia Artificial aplicadas al negocio
DESCRIPTION:¿Quieres descubrir cómo la Inteligencia Artificial (IA) puede transformar tu negocio y mejorar tus resultados? Te invitamos a nuestro taller “Herramientas de Inteligencia Artificial aplicadas al negocio”\, diseñado para proporcionarte los conocimientos necesarios para aprovechar el poder de la IA en tus operaciones y estrategias comerciales. \nDurante este taller\, que se llevará a cabo el día 18 de septiembre\, aprenderás a integrar herramientas de IA en áreas clave de tu negocio\, como la atención al cliente\, la automatización de procesos\, el análisis de datos y el marketing. Exploraremos aplicaciones prácticas\, desde el uso de chatbots para mejorar la experiencia del cliente\, hasta el análisis predictivo para tomar decisiones más informadas. \nPuedes seguir este taller de forma online o presencialmente desde cualquiera de los centros CircularFab de la provincia. \nInscríbete escaneando el QR del cartel.
URL:https://eventos.dip-caceres.es/event/taller-herramientas-de-inteligencia-artificial-aplicadas-al-negocio/
LOCATION:Evento Online\, España
CATEGORIES:Comercio Rural
ATTACH;FMTTYPE=image/jpeg:https://eventos.dip-caceres.es/wp-content/uploads/2024/09/240918_Taller-Herramientas-de-Inteligencia-Artificial-aplicadas-al-negocio.jpg
END:VEVENT
BEGIN:VEVENT
DTSTART;TZID=Europe/Madrid:20240917T160000
DTEND;TZID=Europe/Madrid:20240917T170000
DTSTAMP:20260420T131521
CREATED:20240913T100317Z
LAST-MODIFIED:20240913T101224Z
UID:10000147-1726588800-1726592400@eventos.dip-caceres.es
SUMMARY:Taller: Cómo puedo aplicar a mi comercio la Realidad Virtual
DESCRIPTION:¿Te gustaría descubrir cómo implementar la Realidad Virtual en tu negocio para mejorar la experiencia de tus clientes? Te invitamos a nuestro taller “Cómo puedo aplicar a mi comercio la Realidad Virtual”\, donde aprenderás a integrar esta innovadora tecnología en tu estrategia comercial. \nDurante este taller\, que se llevará a cabo el día 17 de septiembre\, exploraremos cómo la Realidad Virtual puede transformar la forma en que interactúas con tus clientes\, desde la creación de experiencias inmersivas en la venta de productos hasta la optimización de procesos internos. \nTe guiaremos paso a paso en la implementación de soluciones RV asequibles y escalables\, destacando las herramientas y plataformas más adecuadas para tu negocio. Además\, conocerás casos de éxito que te inspirarán a crear experiencias únicas\, mejorando la interacción y fidelización de tus clientes. ¡No te pierdas esta oportunidad para llevar tu comercio al siguiente nivel! \nPuedes seguir este taller de forma online o presencialmente desde cualquiera de los centros CircularFab de la provincia. \nInscríbete escaneando el QR del cartel.
URL:https://eventos.dip-caceres.es/event/taller-como-puedo-aplicar-a-mi-comercio-la-realidad-virtual/
LOCATION:Evento Online\, España
CATEGORIES:Comercio Rural
ATTACH;FMTTYPE=image/jpeg:https://eventos.dip-caceres.es/wp-content/uploads/2024/09/240917_Taller-Como-aplicar-a-mi-comercio-la-realidad-virtual.jpg
END:VEVENT
BEGIN:VEVENT
DTSTART;TZID=Europe/Madrid:20240917T090000
DTEND;TZID=Europe/Madrid:20240917T100000
DTSTAMP:20260420T131521
CREATED:20240913T085430Z
LAST-MODIFIED:20240913T101410Z
UID:10000146-1726563600-1726567200@eventos.dip-caceres.es
SUMMARY:Taller: Gestión de ataques en internet y cómo responder a los mismos
DESCRIPTION:¿Te preocupa la seguridad de tu presencia en internet y la de tu organización? Te invitamos a nuestro taller “Gestión de ataques en internet y cómo responder”\, diseñado para dotarte de las herramientas necesarias para enfrentar amenazas digitales y proteger tu información de manera efectiva. \nDurante este taller exploraremos los diferentes tipos de ataques cibernéticos a los que estás expuesto\, como el phishing\, el ransomware y los ataques de denegación de servicio (DDoS). Aprenderás cómo identificar estos ataques\, mitigar sus efectos y responder de manera ágil ante una situación de riesgo. \nPuedes seguir este taller de forma online o presencialmente desde cualquiera de los centros CircularFab de la provincia. \nInscríbete escaneando el QR del cartel
URL:https://eventos.dip-caceres.es/event/gestion-de-ataques-en-internet-y-como-responder-a-los-mismos/
LOCATION:Evento Online\, España
CATEGORIES:Comercio Rural
ATTACH;FMTTYPE=image/jpeg:https://eventos.dip-caceres.es/wp-content/uploads/2024/09/240917_Taller-Gestion-de-ataques-en-Internet-y-como-responder-a-los-mismos.jpg
END:VEVENT
BEGIN:VEVENT
DTSTART;TZID=Europe/Madrid:20240627T160000
DTEND;TZID=Europe/Madrid:20240627T170000
DTSTAMP:20260420T131521
CREATED:20240619T104322Z
LAST-MODIFIED:20240619T115007Z
UID:10000124-1719504000-1719507600@eventos.dip-caceres.es
SUMMARY:"Cuida la reputación de la imagen de tu empresa en internet. Gestión de contenidos". Trujillo
DESCRIPTION:¡Nos complace invitarlos a nuestro próximo evento en Trujillo\, “Cuida la Reputación e Imagen de tu Empresa en Internet: Gestión de Contenidos”! \nDurante la sesión\, exploraremos la importancia de gestionar cuidadosamente la reputación e imagen de tu empresa en línea. Abordaremos estrategias efectivas para crear y mantener una presencia digital sólida\, incluida la gestión de contenidos en redes sociales\, blogs y otras plataformas digitales. \nNo pierdas la oportunidad de descubrir cómo la gestión de contenidos puede influir en la reputación de tu empresa en internet. Únete a nosotros y aprende cómo proteger y mejorar la imagen de tu empresa en línea para atraer más clientes y fortalecer tu marca. \nPrograma: \n\n16:00h. Bienvenida. María Astier Álvarez. Auren Consultores\n16:05h. Servicios OAPR y Kit Digital. Ricardo Pérez Antequera. Agente Dinamizador de Transformación Digital. Centro OAPR\n16:15h. Charla: “Cuida la Reputación e Imagen de tu Empresa en Internet: Gestión de Contenidos”. Ernesto Guerrero. Responsable proyectos\n16:45h. Ruegos y preguntas. Networking\n\nAsistencia presencial. Plazas limitadas. \nPor favor\, activa JavaScript en tu navegador para completar este formulario.Por favor\, activa JavaScript en tu navegador para completar este formulario.Nombre *NombreApellidosNIF *Correo electrónico *Teléfono *Empresa *Código postal de la empresaCIF/NIF *CIF/NIF de la empresaCódigo Postal Empresa *Enviar
URL:https://eventos.dip-caceres.es/event/cuida-la-reputacion-de-la-imagen-de-tu-empresa-en-internet-gestion-de-contenidos-trujillo/
LOCATION:Trujillo. Circular Fab\, Av. Miajadas\, 32\, Trujillo\, Cáceres\, 13001\, España
CATEGORIES:AceleraPyme
ATTACH;FMTTYPE=image/png:https://eventos.dip-caceres.es/wp-content/uploads/2024/06/2706-Trujillo.png
ORGANIZER;CN="Acelera Pyme Rural":MAILTO:acelerapyme@dip-caceres.es
END:VEVENT
BEGIN:VEVENT
DTSTART;TZID=Europe/Madrid:20240607T090000
DTEND;TZID=Europe/Madrid:20240607T100000
DTSTAMP:20260420T131521
CREATED:20240603T111603Z
LAST-MODIFIED:20240604T120301Z
UID:10000095-1717750800-1717754400@eventos.dip-caceres.es
SUMMARY:Be-people\, tu solución para la gestión de empleados. Trujillo
DESCRIPTION:¡Nos complace invitarles a nuestro próximo evento en Trujillo\, “Be-people\, tu solución para la gestión de empleados”! \nDurante la sesión\, exploraremos en detalle cómo este innovador ERP\, con su módulo avanzado de Recursos Humanos\, puede revolucionar la forma en que gestionas a tu equipo. Desde la contratación hasta la gestión del desempeño\, Be-people ofrece herramientas potentes y fáciles de usar que optimizan los procesos de RRHH y mejoran la productividad del personal. \nNo dejes pasar esta oportunidad para descubrir cómo Be-people puede simplificar y mejorar la gestión de tus empleados. \nPrograma: \n09:00h. Bienvenida. Diego Fernández Nieto. Auren Consultores\n09:05h. Servicios OAPR y Kit Digital. Ricardo Pérez Antequera. Agente Dinamizador de Transformación Digital. Centro OAPR\n09:15h. Charla: “Be-people\, tu solución para la gestión de empleados”. Alejandro García García. Dir. Tecnología.\n09:45h. Ruegos y preguntas. Networking \nAsistencia presencial. Plazas limitadas. \nPor favor\, activa JavaScript en tu navegador para completar este formulario.Por favor\, activa JavaScript en tu navegador para completar este formulario.Nombre *NombreApellidosNIF *Correo electrónico *Teléfono *Empresa *Código postal de la empresaCIF/NIF *CIF/NIF de la empresaCódigo Postal Empresa *Enviar
URL:https://eventos.dip-caceres.es/event/be-people-tu-solucion-para-la-gestion-de-empleados-trujillo/
LOCATION:Trujillo. Circular Fab\, Av. Miajadas\, 32\, Trujillo\, Cáceres\, 13001\, España
CATEGORIES:AceleraPyme
ATTACH;FMTTYPE=image/png:https://eventos.dip-caceres.es/wp-content/uploads/2024/06/Trujillo-E0606-APR_CC.png
ORGANIZER;CN="Acelera Pyme Rural":MAILTO:acelerapyme@dip-caceres.es
END:VEVENT
BEGIN:VEVENT
DTSTART;TZID=Europe/Madrid:20231003T201500
DTEND;TZID=Europe/Madrid:20231003T211500
DTSTAMP:20260420T131521
CREATED:20230926T124409Z
LAST-MODIFIED:20230926T124409Z
UID:10000050-1696364100-1696367700@eventos.dip-caceres.es
SUMMARY:Factura electrónica: más que papel\, es progreso
DESCRIPTION:Nos complace invitarles a nuestro próximo evento “Factura electrónica: Más que papel\, es progreso” \nDurante la sesión nos adentraremos en la definición de factura electrónica\, tipos de factura electrónica\, funcionamiento de la factura electrónica\, objetivos de la Ley “Crea y Crece” y por último\, tendremos la participación de Francisco Mateos Cotrina (Agente DIgitalizador de Trujillo)\, que nos mostrará un caso de éxito de factura electrónica. \nLa factura electrónica es un paso más que los autónomos y las Pymes deben dar para estar más digitalizados\, este proceso es importante para el avance continuo de su empresa. No dejes escapar esta oportunidad de aprender más sobre la facturación electrónica. \nPrograma: \n\n20:15h. Bienvenida – Ricardo Franco\, Coordinador Diputación de Cáceres.\n20:20h. Introducción. – Ricardo Pérez\, Agente Dinamizador de Transformación Digital.\n20:35h. Caso de éxito – Francisco Mateos Cotrina\, Agente Digitalizador de InfoTrujillo.\n21:00h. Ruegos y preguntas.\n\nLugar: \n\nCircular Fab Trujillo: Av. Miajadas\, 32\n\nAsistencia presencial. Plazas limitadas. \n  \n 
URL:https://eventos.dip-caceres.es/event/factura-electronica-mas-que-papel-es-progreso/
LOCATION:Trujillo. Circular Fab\, Av. Miajadas\, 32\, Trujillo\, Cáceres\, 13001\, España
CATEGORIES:AceleraPyme
ATTACH;FMTTYPE=image/png:https://eventos.dip-caceres.es/wp-content/uploads/2023/09/Evento-Fra-Electronica-.png
ORGANIZER;CN="Acelera Pyme Rural":MAILTO:acelerapyme@dip-caceres.es
END:VEVENT
BEGIN:VEVENT
DTSTART;TZID=Europe/Madrid:20230627T100000
DTEND;TZID=Europe/Madrid:20230627T120000
DTSTAMP:20260420T131521
CREATED:20230613T112356Z
LAST-MODIFIED:20230616T101446Z
UID:10000043-1687860000-1687867200@eventos.dip-caceres.es
SUMMARY:Provincia Digital y Pueblos Inteligentes. Trujillo
DESCRIPTION:Jornadas “PROVINCIA DIGITAL Y PUEBLOS INTELIGENTES”. TRUJILLO \n\nLanzamiento y avances de la Plataforma Provincia Digital e Inteligente.\nImpulso de la Oficina de Provincia Digital y Transformación Digital OPRID.\nActuaciones de Pueblos Inteligentes (convocatorias 2021/22)\, y su alineación estratégico con el ecosistema provincial.\n\nDestinatarios: \nAyuntamientos\, Agentes de Empleo y Desarrollo Local\, empresas del sector TIC\, grupos de investigación UEx\, profesionales en competencias digitales\, etc. \nInscripciones: \nPor favor\, activa JavaScript en tu navegador para completar este formulario.Por favor\, activa JavaScript en tu navegador para completar este formulario.Nombre y apellidos *Correo electrónico *TeléfonoEntidad/Empresa *CargoEnviar
URL:https://eventos.dip-caceres.es/event/provincia-digital-y-pueblos-inteligentes-trujillo/
LOCATION:Trujillo. Circular Fab\, Av. Miajadas\, 32\, Trujillo\, Cáceres\, 13001\, España
CATEGORIES:Provincia Digital
ATTACH;FMTTYPE=image/png:https://eventos.dip-caceres.es/wp-content/uploads/2023/06/Jornadas_Provincia-Digital-y-Pueblos-Inteligentes-cuadrado.png
END:VEVENT
END:VCALENDAR