BEGIN:VCALENDAR
VERSION:2.0
PRODID:-//Eventos Diputación de Cáceres - ECPv6.15.17.1//NONSGML v1.0//EN
CALSCALE:GREGORIAN
METHOD:PUBLISH
X-WR-CALNAME:Eventos Diputación de Cáceres
X-ORIGINAL-URL:https://eventos.dip-caceres.es
X-WR-CALDESC:Eventos para Eventos Diputación de Cáceres
REFRESH-INTERVAL;VALUE=DURATION:PT1H
X-Robots-Tag:noindex
X-PUBLISHED-TTL:PT1H
BEGIN:VTIMEZONE
TZID:Europe/Madrid
BEGIN:DAYLIGHT
TZOFFSETFROM:+0100
TZOFFSETTO:+0200
TZNAME:CEST
DTSTART:20250330T010000
END:DAYLIGHT
BEGIN:STANDARD
TZOFFSETFROM:+0200
TZOFFSETTO:+0100
TZNAME:CET
DTSTART:20251026T010000
END:STANDARD
BEGIN:DAYLIGHT
TZOFFSETFROM:+0100
TZOFFSETTO:+0200
TZNAME:CEST
DTSTART:20260329T010000
END:DAYLIGHT
BEGIN:STANDARD
TZOFFSETFROM:+0200
TZOFFSETTO:+0100
TZNAME:CET
DTSTART:20261025T010000
END:STANDARD
BEGIN:DAYLIGHT
TZOFFSETFROM:+0100
TZOFFSETTO:+0200
TZNAME:CEST
DTSTART:20270328T010000
END:DAYLIGHT
BEGIN:STANDARD
TZOFFSETFROM:+0200
TZOFFSETTO:+0100
TZNAME:CET
DTSTART:20271031T010000
END:STANDARD
END:VTIMEZONE
BEGIN:VEVENT
DTSTART;TZID=Europe/Madrid:20260224T100000
DTEND;TZID=Europe/Madrid:20260224T130000
DTSTAMP:20260419T222741
CREATED:20260220T133616Z
LAST-MODIFIED:20260220T134914Z
UID:10000227-1771927200-1771938000@eventos.dip-caceres.es
SUMMARY:Red de Coworking Rurales de la Provincia de Cáceres. Jornada de presentación
DESCRIPTION:La Diputación de Cáceres impulsa la Red de Coworking Rural de la Provincia de Cáceres\, una iniciativa diseñada para transformar el territorio en un escenario de oportunidad real para vivir\, trabajar y emprender.\nLa Red se concibe como una herramienta de gobernanza colaborativo que multiplica el impacto de cada coworking y consolida el Ecosistema de Emprendimiento provincial.\nDurante la jornada se darán a conocer los requisitos y beneficios de adhesión\, junto a la hoja de ruta y próximas actuaciones. \nPrograma: \n\n10.00 h – Acreditación y café de bienvenida.\n10.30 h – Apertura institucional\n11.00 h – Presentación: “Red de Coworking Rurales de la Provincia de Cáceres” 11.45 h – Mesa: “Fortaleciendo alianzas y conexiones de las redes de coworking”.\n12.30 h – Rueda de prensa (presentación oficial).\n13.00 h – Fin de la jornada.\n\n🔗 Inscripción
URL:https://eventos.dip-caceres.es/event/red-de-coworking-rurales-de-la-provincia-de-caceres-jornada-de-presentacion/
LOCATION:Miajadas. Palacio Obispo Solís\, C/ Real\, 28\, MIajadas\, Extremadura\, 10100\, Spain
CATEGORIES:Territorios inteligentes
ATTACH;FMTTYPE=image/png:https://eventos.dip-caceres.es/wp-content/uploads/2026/02/Jornada-coworking.png
END:VEVENT
END:VCALENDAR