BEGIN:VCALENDAR
VERSION:2.0
PRODID:-//Eventos Diputación de Cáceres - ECPv6.15.17.1//NONSGML v1.0//EN
CALSCALE:GREGORIAN
METHOD:PUBLISH
X-ORIGINAL-URL:https://eventos.dip-caceres.es
X-WR-CALDESC:Eventos para Eventos Diputación de Cáceres
REFRESH-INTERVAL;VALUE=DURATION:PT1H
X-Robots-Tag:noindex
X-PUBLISHED-TTL:PT1H
BEGIN:VTIMEZONE
TZID:Europe/Madrid
BEGIN:DAYLIGHT
TZOFFSETFROM:+0100
TZOFFSETTO:+0200
TZNAME:CEST
DTSTART:20230326T010000
END:DAYLIGHT
BEGIN:STANDARD
TZOFFSETFROM:+0200
TZOFFSETTO:+0100
TZNAME:CET
DTSTART:20231029T010000
END:STANDARD
BEGIN:DAYLIGHT
TZOFFSETFROM:+0100
TZOFFSETTO:+0200
TZNAME:CEST
DTSTART:20240331T010000
END:DAYLIGHT
BEGIN:STANDARD
TZOFFSETFROM:+0200
TZOFFSETTO:+0100
TZNAME:CET
DTSTART:20241027T010000
END:STANDARD
BEGIN:DAYLIGHT
TZOFFSETFROM:+0100
TZOFFSETTO:+0200
TZNAME:CEST
DTSTART:20250330T010000
END:DAYLIGHT
BEGIN:STANDARD
TZOFFSETFROM:+0200
TZOFFSETTO:+0100
TZNAME:CET
DTSTART:20251026T010000
END:STANDARD
BEGIN:DAYLIGHT
TZOFFSETFROM:+0100
TZOFFSETTO:+0200
TZNAME:CEST
DTSTART:20260329T010000
END:DAYLIGHT
BEGIN:STANDARD
TZOFFSETFROM:+0200
TZOFFSETTO:+0100
TZNAME:CET
DTSTART:20261025T010000
END:STANDARD
END:VTIMEZONE
BEGIN:VEVENT
DTSTART;TZID=Europe/Madrid:20251126T083000
DTEND;TZID=Europe/Madrid:20251126T143000
DTSTAMP:20260423T112838
CREATED:20251120T083822Z
LAST-MODIFIED:20251121T180915Z
UID:10000222-1764145800-1764167400@eventos.dip-caceres.es
SUMMARY:Jornada Técnicas. Gestión de residuos y economía circular. El modelo consorciado para el ámbito rural.
DESCRIPTION:Una jornada para conocer\, compartir y debatir sobre la gestión sostenible de los residuos en el entorno rural de la Provincia de Cáceres\nEl Consorcio MásMedio organiza esta jornada técnica en el marco de la Semana Europea de la Reducción de Residuos 2025\, con el objetivo de analizar los retos y oportunidades que plantea la Ley 7/2022 de residuos y suelos contaminados y compartir experiencias reales sobre la implantación de modelos consorciados en municipios rurales. \nDurante un día\, responsables institucionales\, técnicos\, empresas y especialistas debatirán sobre la sostenibilidad económica de los servicios\, la implantación de la fracción orgánica\, la gestión supramunicipal y la educación ambiental como motor de cambio. \nUna cita abierta a todos los agentes que creen en una gestión eficiente\, equitativa y sostenible de los recursos medioambientales. \nObjetivos de la jornada \n\nDifundir los principios de la economía circular y su aplicación en el territorio rural.\nAnalizar las implicaciones de la Ley 7/2022 en los servicios locales de gestión de residuos.\nMostrar casos de éxito impulsados por el Consorcio MásMedio y otros entes públicos.\nFomentar el intercambio de conocimiento entre administraciones\, empresas y ciudadanía.\nPromover un evento accesible\, inclusivo y sostenible en todos sus aspectos.\n\n¿Por qué participar?\nLa gestión de residuos está evolucionando hacia un modelo más responsable\, transparente y adaptado al territorio. En los entornos rurales\, el modelo consorciado se revela como una herramienta clave para garantizar la igualdad de servicios\, optimizar costes y promover la sostenibilidad. \nParticipar en esta jornada significa anticiparse al cambio\, adquirir herramientas prácticas y establecer contactos con profesionales del sector que ya están aplicando soluciones innovadoras. \nContenido y ponencias \nBLOQUE I: «LEY 7/2022 RETOS Y NOVEDADES PARA LA ECONOMÍA CIRCULAR RURAL” \n\nEl Modelo Tributario de las Tasas de Residuos. Sostenibilidad Económica de los Servicios. (D. Miguel Alonso Gil. Presidente del Tribunal Económico Administrativo Municipal en Ayuntamiento de Móstoles)\nEl Modelo Consorciado en la Gestión de Residuos en el Ámbito Rural. (D. Ricardo Rodríguez Herrero. Asesor Técnico de residuos municipales COGERSA)\n\nBLOQUE II: «LA ADAPTACIÓN DE LA GESTIÓN DE RESIDUOS AL ÁMBITO RURAL. PROYECTOS SINGULARES DE LA PROVINCIA DE CÁCERES» \n\nRetos para la Implantación de la Gestión de la Fracción Orgánica en Extremadura. (Dña. Almudena Maza Gutiérrez. Técnica Servicio de Prevención\, Calidad Ambiental y Cambio Climático. Dirección General de Sostenibilidad. Junta de Extremadura)\nPlan Provincial de Puntos Limpios y el Modelo de Gestión Supramunicipal de Fracciones Singulares. (D. Gustavo Pérez Rodríguez. Gerente del Consorcio MásMedio. Diputación de Cáceres)\n\nMESA REDONDA. “LA GESTIÓN DE LOS RESIDUOS EN AL ÁMBITO MUNICIPAL” \n\nD. Ángel Rodríguez. Gerente del Consorcio de Valencia Interior.\nDña. Eva Puche Navarro. Asesora en Residuos Municipales. Anthesisgroup.\nD. Francisco Vaquero Oliva. Responsable Servicios RSU. Consorcio MásMedio. Diputación de Cáceres\nDña. María Jesús Cabo Calatayud. Maestra Compostera y Responsable de los Programas de Compostaje y Educación Ambiental del Consorcio Valencia Interior.\n\n¿A quién va dirigida? \n\nAyuntamientos\, técnicos y responsables municipales.\nEmpresas del sector ambiental\, ingeniería y gestión pública.\nUniversidades\, centros de investigación y estudiantes.\nCiudadanía comprometida con la sostenibilidad.\n\nPara poder asistir hay que rellenar la inscripción previa \nUn modelo que funciona: Consorcio MásMedio\nEl Consorcio MásMedio es el Consorcio de Medioambiente y Aguas Provincia de Cáceres de la Excma. Diputación Provincial de Cáceres. Su modelo de gestión consorciado permite a los municipios compartir recursos\, optimizar costes y garantizar la prestación de servicios ambientales con criterios de eficiencia\, equidad y sostenibilidad. \nDesde la recogida y tratamiento de residuos hasta la educación ambiental\, el Consorcio MásMedio trabaja con los ayuntamientos para hacer de la provincia un referente en economía circular y gestión responsable del entorno. \nPrograma \nHora Actividad \n\n08:30 Acreditaciones y recepción de autoridades\n09:30 Inauguración oficial\n10:15 Pausa – café\n10:45 Bloque I: “Ley 7/2022. Retos y Novedades para la Economía Circular Rural”\n12:15 Bloque II: “La Adaptación de la gestión de residuos al ámbito rural. Proyectos singulares de la Provincia de Cáceres”\n13:30 Mesa redonda: “La gestión de los residuos en el ámbito municipal”\n14:15 Clausura\n14:30 Comida en el Claustro del Complejo Cultural San Francisco.\n\nInscripción:\nLa asistencia es gratuita y puede ser online o presencial (plazas limitadas). La asistencia requiere inscripción previa. \nLos datos serán tratados conforme a la Política de Protección de Datos Personales del Consorcio MásMedio. \nInformación \n\nFecha y hora: 26 de noviembre de 2025 (acreditaciones desde las 08:30 h)\nLugar: Sala Malinche\, Complejo Cultural San Francisco (Cáceres)\nStreaming: disponible previo inicio de las jornadas.\nAccesibilidad: intérpretes de lengua de signos y asistencia personalizada.\n\n“La economía circular comienza en cada municipio. Juntos\, desde la cooperación y la responsabilidad compartida\, avanzamos hacia una provincia más sostenible.” \nConsorcio MásMedio · Excma. Diputación Provincial de Cáceres \nContacto y organización \nOrganiza: Consorcio MásMedio · Excma. Diputación Provincial de Cáceres\nContacto: jornadas@masmedio.es · 927 625 293\nPolítica de privacidad: https://masmedio.es/politica-de-privacidad/
URL:https://eventos.dip-caceres.es/event/gestion-de-residuos-y-economia-circular-el-modelo-consorciado-para-el-ambito-rural/
LOCATION:Complejo Cultural San Francisco. Cáceres\, Rda. de San Francisco\, 15\, Centro-Casco Antiguo\,\, Cáceres\, Cáceres\, 10002
CATEGORIES:MásMedio
ATTACH;FMTTYPE=image/png:https://eventos.dip-caceres.es/wp-content/uploads/2025/11/Jornada-gestion-de-residuos-1.png
ORGANIZER;CN="Consorcio M%C3%A1sMedio":MAILTO:info@masmedio.es
END:VEVENT
BEGIN:VEVENT
DTSTART;TZID=Europe/Madrid:20241122T090000
DTEND;TZID=Europe/Madrid:20241122T140000
DTSTAMP:20260423T112838
CREATED:20241104T112135Z
LAST-MODIFIED:20241121T105358Z
UID:10000170-1732266000-1732284000@eventos.dip-caceres.es
SUMMARY:Jornadas sobre Zonas Naturales de Baño en la provincia de Cáceres
DESCRIPTION:El próximo día 22 de noviembre se celebrarán en la Sala Europa del Complejo San Francisco de Cáceres las I Jornadas sobre Zonas Naturales de Baño en la provincia de Cáceres. \nAquí puede descargar el Programa de las Jornadas \nPara participar en estas jornadas inscríbase rellenando el siguiente formulario: \nHa finalizado el plazo de inscripciones
URL:https://eventos.dip-caceres.es/event/jornadas-sobre-zonas-naturales-de-bano-en-la-provincia-de-caceres/
LOCATION:Complejo Cultural San Francisco. Cáceres\, Rda. de San Francisco\, 15\, Centro-Casco Antiguo\,\, Cáceres\, Cáceres\, 10002
CATEGORIES:Diputación de Cáceres
ATTACH;FMTTYPE=image/jpeg:https://eventos.dip-caceres.es/wp-content/uploads/2024/11/CARTELA-ZNB.jpg
END:VEVENT
END:VCALENDAR