BEGIN:VCALENDAR
VERSION:2.0
PRODID:-//Eventos Diputación de Cáceres - ECPv6.15.17.1//NONSGML v1.0//EN
CALSCALE:GREGORIAN
METHOD:PUBLISH
X-ORIGINAL-URL:https://eventos.dip-caceres.es
X-WR-CALDESC:Eventos para Eventos Diputación de Cáceres
REFRESH-INTERVAL;VALUE=DURATION:PT1H
X-Robots-Tag:noindex
X-PUBLISHED-TTL:PT1H
BEGIN:VTIMEZONE
TZID:Europe/Madrid
BEGIN:DAYLIGHT
TZOFFSETFROM:+0100
TZOFFSETTO:+0200
TZNAME:CEST
DTSTART:20250330T010000
END:DAYLIGHT
BEGIN:STANDARD
TZOFFSETFROM:+0200
TZOFFSETTO:+0100
TZNAME:CET
DTSTART:20251026T010000
END:STANDARD
BEGIN:DAYLIGHT
TZOFFSETFROM:+0100
TZOFFSETTO:+0200
TZNAME:CEST
DTSTART:20260329T010000
END:DAYLIGHT
BEGIN:STANDARD
TZOFFSETFROM:+0200
TZOFFSETTO:+0100
TZNAME:CET
DTSTART:20261025T010000
END:STANDARD
BEGIN:DAYLIGHT
TZOFFSETFROM:+0100
TZOFFSETTO:+0200
TZNAME:CEST
DTSTART:20270328T010000
END:DAYLIGHT
BEGIN:STANDARD
TZOFFSETFROM:+0200
TZOFFSETTO:+0100
TZNAME:CET
DTSTART:20271031T010000
END:STANDARD
END:VTIMEZONE
BEGIN:VEVENT
DTSTART;TZID=Europe/Madrid:20260203T093000
DTEND;TZID=Europe/Madrid:20260203T170000
DTSTAMP:20260424T083840
CREATED:20260121T095034Z
LAST-MODIFIED:20260121T111405Z
UID:10000225-1770111000-1770138000@eventos.dip-caceres.es
SUMMARY:Laboratorio de Especialización "Segundo Laboratorio: Acciones y agentes que superan los retos y obstáculos"
DESCRIPTION:Laboratorio de Especialización “Segundo Laboratorio: Acciones y agentes que superan los retos y obstáculos” \n \nFormulario de inscripción
URL:https://eventos.dip-caceres.es/event/laboratorio-de-especializacion-segundo-laboratorio-acciones-y-agentes-que-superan-los-retos-y-obstaculos/
LOCATION:La nave va\, Las mesas\, Berrocalejo\, 10392\, Spain
CATEGORIES:CircularFab,Desarrollo rural,Diputación de Cáceres,Red CIT Circular FAB
ATTACH;FMTTYPE=image/jpeg:https://eventos.dip-caceres.es/wp-content/uploads/2026/01/20150725_092328w-scaled.jpg
ORGANIZER;CN="Ruralizate":MAILTO:laura.corchado@ruralizate.com
END:VEVENT
END:VCALENDAR