BEGIN:VCALENDAR
VERSION:2.0
PRODID:-//Eventos Diputación de Cáceres - ECPv6.15.17.1//NONSGML v1.0//EN
CALSCALE:GREGORIAN
METHOD:PUBLISH
X-ORIGINAL-URL:https://eventos.dip-caceres.es
X-WR-CALDESC:Eventos para Eventos Diputación de Cáceres
REFRESH-INTERVAL;VALUE=DURATION:PT1H
X-Robots-Tag:noindex
X-PUBLISHED-TTL:PT1H
BEGIN:VTIMEZONE
TZID:Europe/Madrid
BEGIN:DAYLIGHT
TZOFFSETFROM:+0100
TZOFFSETTO:+0200
TZNAME:CEST
DTSTART:20230326T010000
END:DAYLIGHT
BEGIN:STANDARD
TZOFFSETFROM:+0200
TZOFFSETTO:+0100
TZNAME:CET
DTSTART:20231029T010000
END:STANDARD
BEGIN:DAYLIGHT
TZOFFSETFROM:+0100
TZOFFSETTO:+0200
TZNAME:CEST
DTSTART:20240331T010000
END:DAYLIGHT
BEGIN:STANDARD
TZOFFSETFROM:+0200
TZOFFSETTO:+0100
TZNAME:CET
DTSTART:20241027T010000
END:STANDARD
BEGIN:DAYLIGHT
TZOFFSETFROM:+0100
TZOFFSETTO:+0200
TZNAME:CEST
DTSTART:20250330T010000
END:DAYLIGHT
BEGIN:STANDARD
TZOFFSETFROM:+0200
TZOFFSETTO:+0100
TZNAME:CET
DTSTART:20251026T010000
END:STANDARD
END:VTIMEZONE
BEGIN:VEVENT
DTSTART;TZID=Europe/Madrid:20241119T160000
DTEND;TZID=Europe/Madrid:20241119T170000
DTSTAMP:20260420T135426
CREATED:20241010T130018Z
LAST-MODIFIED:20241010T130018Z
UID:10000160-1732032000-1732035600@eventos.dip-caceres.es
SUMMARY:Taller: Cierra la venta: pagos seguros y sencillos
DESCRIPTION:Este taller se centra en la parte final y crucial del proceso de venta: el pago. Aprenderás a integrar sistemas de pago seguros y sencillos en tu tienda de Cáceres Digital\, optimizando la experiencia del cliente y asegurando que el proceso de compra sea rápido y fiable.\ntiene menú contextual. \nPuedes seguir este taller de forma online o presencialmente desde cualquiera de los centros CircularFab de la provincia. \nInscríbete escaneando el QR del cartel.
URL:https://eventos.dip-caceres.es/event/taller-cierra-la-venta-pagos-seguros-y-sencillos/
LOCATION:Evento Online\, España
CATEGORIES:Comercio Rural
ATTACH;FMTTYPE=image/jpeg:https://eventos.dip-caceres.es/wp-content/uploads/2024/10/comercio-rural-4.jpg
END:VEVENT
END:VCALENDAR