BEGIN:VCALENDAR
VERSION:2.0
PRODID:-//Eventos Diputación de Cáceres - ECPv6.15.17.1//NONSGML v1.0//EN
CALSCALE:GREGORIAN
METHOD:PUBLISH
X-ORIGINAL-URL:https://eventos.dip-caceres.es
X-WR-CALDESC:Eventos para Eventos Diputación de Cáceres
REFRESH-INTERVAL;VALUE=DURATION:PT1H
X-Robots-Tag:noindex
X-PUBLISHED-TTL:PT1H
BEGIN:VTIMEZONE
TZID:Europe/Madrid
BEGIN:DAYLIGHT
TZOFFSETFROM:+0100
TZOFFSETTO:+0200
TZNAME:CEST
DTSTART:20230326T010000
END:DAYLIGHT
BEGIN:STANDARD
TZOFFSETFROM:+0200
TZOFFSETTO:+0100
TZNAME:CET
DTSTART:20231029T010000
END:STANDARD
BEGIN:DAYLIGHT
TZOFFSETFROM:+0100
TZOFFSETTO:+0200
TZNAME:CEST
DTSTART:20240331T010000
END:DAYLIGHT
BEGIN:STANDARD
TZOFFSETFROM:+0200
TZOFFSETTO:+0100
TZNAME:CET
DTSTART:20241027T010000
END:STANDARD
BEGIN:DAYLIGHT
TZOFFSETFROM:+0100
TZOFFSETTO:+0200
TZNAME:CEST
DTSTART:20250330T010000
END:DAYLIGHT
BEGIN:STANDARD
TZOFFSETFROM:+0200
TZOFFSETTO:+0100
TZNAME:CET
DTSTART:20251026T010000
END:STANDARD
END:VTIMEZONE
BEGIN:VEVENT
DTSTART;TZID=Europe/Madrid:20240709T090000
DTEND;TZID=Europe/Madrid:20240709T100000
DTSTAMP:20260424T083243
CREATED:20240610T120844Z
LAST-MODIFIED:20240610T120844Z
UID:10000112-1720515600-1720519200@eventos.dip-caceres.es
SUMMARY:Taller de capacitación digital: Ciberseguridad en el sector comercial
DESCRIPTION:
URL:https://eventos.dip-caceres.es/event/taller-de-capacitacion-digital-ciberseguridad-en-el-sector-comercial/
LOCATION:Extremadura
CATEGORIES:Comercio Rural
ATTACH;FMTTYPE=image/jpeg:https://eventos.dip-caceres.es/wp-content/uploads/2024/06/Taller-9-y-10-julio.jpg
END:VEVENT
BEGIN:VEVENT
DTSTART;TZID=Europe/Madrid:20240709T100000
DTEND;TZID=Europe/Madrid:20240709T110000
DTSTAMP:20260424T083243
CREATED:20240627T084417Z
LAST-MODIFIED:20240627T084634Z
UID:10000134-1720519200-1720522800@eventos.dip-caceres.es
SUMMARY:Inteligencia Artificial y Data Analytics: Creación de Paneles de Control y Dashboards
DESCRIPTION:En este webinar\, aprenderemos a crear paneles de control interactivos y visualmente atractivos utilizando Power BI. Exploraremos las principales funcionalidades de Power BI para transformar\, visualizar y compartir datos de manera efectiva. Este seminario es ideal para aquellos que ya tienen conocimientos básicos en Análisis de datos y Power BI y desean dominar la creación de dashboards para mejorar la toma de decisiones en sus organizaciones. \nInscripciones: https://events.teams.microsoft.com/event/25a2e718-9a04-4089-9fa9-95d1b236a292@0d362b27-2aed-4078-b093-fd43fec482ae
URL:https://eventos.dip-caceres.es/event/inteligencia-artificial-y-data-analytics-creacion-de-paneles-de-control-y-dashboards/
LOCATION:Evento Online\, España
CATEGORIES:AceleraPyme
ATTACH;FMTTYPE=image/png:https://eventos.dip-caceres.es/wp-content/uploads/2024/06/webinar-11-061.png
ORGANIZER;CN="Acelera Pyme Rural":MAILTO:acelerapyme@dip-caceres.es
END:VEVENT
END:VCALENDAR